BEGIN:VCALENDAR
VERSION:2.0
PRODID:icalendar-ruby
CALSCALE:GREGORIAN
METHOD:PUBLISH
BEGIN:VEVENT
DTSTAMP:20260420T110454Z
UID:20-400514@thebirthingroomokc.org
DTSTART:20261101T183000Z
DTEND:20261101T220000Z
CLASS:PUBLIC
CREATED:20260420T014035
DESCRIPTION:
LAST-MODIFIED:20260420T014035
LOCATION:1110 S Air Depot Blvd\, Suite 11\, Midwest City\, OK 73110
SUMMARY:Sunday service
URL;VALUE=URI:https://www.thebirthingroomokc.org/events/sunday-service/2026
 -11-01
END:VEVENT
END:VCALENDAR
